BEGIN:VCALENDAR
VERSION:2.0
PRODID:-//Blaise Duboux | Art du Vin - ECPv5.1.1//NONSGML v1.0//EN
CALSCALE:GREGORIAN
METHOD:PUBLISH
X-WR-CALNAME:Blaise Duboux | Art du Vin
X-ORIGINAL-URL:https://blaiseduboux.ch
X-WR-CALDESC:Events for Blaise Duboux | Art du Vin
BEGIN:VTIMEZONE
TZID:Europe/Paris
BEGIN:DAYLIGHT
TZOFFSETFROM:+0100
TZOFFSETTO:+0200
TZNAME:CEST
DTSTART:20230326T010000
END:DAYLIGHT
BEGIN:STANDARD
TZOFFSETFROM:+0200
TZOFFSETTO:+0100
TZNAME:CET
DTSTART:20231029T010000
END:STANDARD
END:VTIMEZONE
BEGIN:VEVENT
DTSTART;TZID=Europe/Paris:20230316T183000
DTEND;TZID=Europe/Paris:20230316T223000
DTSTAMP:20260420T093810
CREATED:20230227T204953Z
LAST-MODIFIED:20230227T204953Z
UID:7041-1678991400-1679005800@blaiseduboux.ch
SUMMARY:Quel Plant? Robert!
DESCRIPTION:L’association du Plant Robert (Lavaux) et Slow Food Vaud sont fiers de vous annoncer la première édition de l’élection du meilleur Plant Robert\, millésime 2021. Une soirée à Cully\, ouverte à tous qui débutera à la salle Davel\, le jeudi 16 mars à 18h30 et se terminera à l’Auberge du Raisin avec la proclamation du gagnant. \nUn jury de professionnels du monde du goût et de l’œnologie s’est réuni début février. 14 Plants Robert (millésime 2021)\, tous certifiés par l’Association du Plant Robert\, leur furent soumis et 5 furent sélectionnés. \nCe sera au public de départager les finalistes à l’occasion de cette première édition du ” Quel Plant? Robert ! ” \nLieu:  Salle Davel\, Place d’Armes 16\, 1096 Cully \nDébut: 18h30 \nInformations et billetterie \n
URL:https://blaiseduboux.ch/event/quel-plant-robert/
LOCATION:1096 Cully\, Place d'Armes 16\, Bourg-en-Lavaux
CATEGORIES:Evénement ouvert au public,Information,payant,Wine Tasting
ATTACH;FMTTYPE=image/png:https://blaiseduboux.ch/wp-content/uploads/2023/02/Capture-décran-2023-02-26-à-20.21.19.png
END:VEVENT
END:VCALENDAR