BEGIN:VCALENDAR
VERSION:2.0
PRODID:-//Blaise Duboux | Art du Vin - ECPv5.1.1//NONSGML v1.0//EN
CALSCALE:GREGORIAN
METHOD:PUBLISH
X-WR-CALNAME:Blaise Duboux | Art du Vin
X-ORIGINAL-URL:https://blaiseduboux.ch
X-WR-CALDESC:Events for Blaise Duboux | Art du Vin
BEGIN:VTIMEZONE
TZID:UTC
BEGIN:STANDARD
TZOFFSETFROM:+0000
TZOFFSETTO:+0000
TZNAME:UTC
DTSTART:20250101T000000
END:STANDARD
END:VTIMEZONE
BEGIN:VEVENT
DTSTART;TZID=UTC:20250405T100000
DTEND;TZID=UTC:20250405T170000
DTSTAMP:20260419T220833
CREATED:20250323T202543Z
LAST-MODIFIED:20250323T182715Z
UID:721-1743847200-1743872400@blaiseduboux.ch
SUMMARY:9e salon Lavaux Vin Bio\, 5 avril 2025
DESCRIPTION:9e Salon 🍷 LAVAUX VIN BIO\n\n\n05 avr. 2025\, 10:00 – 17:00\n\nSalle des Mariadoules\, Rte de la Petite Corniche 4\, 1091 Aran (Villette)\, Suisse\n\n\nNavettes gratuites depuis les gares de Cully\, Grandvaux et Lutry Corniche (arrêt TL). 10 min à pied de la gare de Villette.\nDégustez les vins biologique\, biodynamique et nature de Lavaux. Restauration et épicerie bio sur place. 🍷🍽️🌱\n\nINFO ET BILLETTERIE\n\n\n
URL:https://blaiseduboux.ch/event/9e-salon-lavaux-vin-bio-5-avril-2025/
LOCATION:1091\, Rte de la Petite Corniche 4\, Aran\, Vaud\, 1091\, Suisse
CATEGORIES:Evénement ouvert au public,payant,Wine Tasting
ATTACH;FMTTYPE=image/png:https://blaiseduboux.ch/wp-content/uploads/2019/09/Capture-decran-2025-03-23-a-19.21.05.png
END:VEVENT
END:VCALENDAR